BEGIN:VCALENDAR
VERSION:2.0
PRODID:-//eventon.com NONSGML v1.0//EN
CALSCALE:GREGORIAN
METHOD:PUBLISH
BEGIN:VEVENT
UID:69e9fca3219c9
DTSTAMP:20260423T110403Z
DTSTART:20190117T110000Z
DTEND:20190117T160000Z
LOCATION:
SUMMARY:$9.99 Steak & Lobster Special
DESCRIPTION:Join us every Thursday at the famous Bucks Cabaret for our popu
 lar Steak &#038; Lobster for only $9.99. A terrific meal with a view! #Buck
 sBabes #BucksCabaret\nhttps://www.bucksclubs.com/bucks-cabaret/blog/events/
 9-99-steak-lobster-special-2/
URL:https://www.bucksclubs.com/bucks-cabaret/blog/events/9-99-steak-lobster-special-2/
END:VEVENT
END:VCALENDAR